Felt | Verdi |
AlreadyApplied | True |
Aperture | 5.6 |
ApertureValue | 5.6 |
ApproximateFocusDistance | 50.1 |
AutoLateralCA | 0 |
AutoWhiteVersion | 134348800 |
BitsPerSample | 8 |
Blacks2012 | 0 |
BlueHue | 0 |
BlueSaturation | 0 |
CameraProfile | Embedded |
CircGradBasedCorrActive | true |
CircGradBasedCorrAmount | 1.000000 |
CircGradBasedCorrBrightness | 0.000000 |
CircGradBasedCorrClarity2012 (1) | 0.374211 |
CircGradBasedCorrClarity2012 (2) | 0.267992 |
CircGradBasedCorrClarity2012 | 0.000000 |
CircGradBasedCorrContrast2012 | 0.000000 |
CircGradBasedCorrDefringe | 0.000000 |
CircGradBasedCorrExposure2012 | 0.000000 |
CircGradBasedCorrHighlights2012 | 0.000000 |
CircGradBasedCorrHue | 0.000000 |
CircGradBasedCorrLuminanceNoise | 0.000000 |
CircGradBasedCorrMaskAngle (1) | -18.243300 |
CircGradBasedCorrMaskAngle (11) | -19.180700 |
CircGradBasedCorrMaskAngle (12) | 43.471400 |
CircGradBasedCorrMaskAngle (13) | -19.817000 |
CircGradBasedCorrMaskAngle (14) | -6.102300 |
CircGradBasedCorrMaskAngle (15) | -16.886100 |
CircGradBasedCorrMaskAngle (16) | 34.137300 |
CircGradBasedCorrMaskAngle (17) | -20.880100 |
CircGradBasedCorrMaskAngle (4) | -19.177600 |
CircGradBasedCorrMaskAngle (5) | -12.912600 |
CircGradBasedCorrMaskAngle (7) | -9.698040 |
CircGradBasedCorrMaskAngle (8) | -6.015410 |
CircGradBasedCorrMaskAngle | 0.000000 |
CircGradBasedCorrMaskBottom (1) | 0.460349 |
CircGradBasedCorrMaskBottom (10) | 0.606386 |
CircGradBasedCorrMaskBottom (11) | 0.605502 |
CircGradBasedCorrMaskBottom (12) | 0.494383 |
CircGradBasedCorrMaskBottom (13) | 0.462510 |
CircGradBasedCorrMaskBottom (14) | 0.292483 |
CircGradBasedCorrMaskBottom (15) | 0.554050 |
CircGradBasedCorrMaskBottom (16) | 0.656016 |
CircGradBasedCorrMaskBottom (17) | 0.583875 |
CircGradBasedCorrMaskBottom (2) | 0.512487 |
CircGradBasedCorrMaskBottom (3) | 0.534697 |
CircGradBasedCorrMaskBottom (4) | 0.633606 |
CircGradBasedCorrMaskBottom (5) | 0.620625 |
CircGradBasedCorrMaskBottom (6) | 0.630509 |
CircGradBasedCorrMaskBottom (7) | 0.623384 |
CircGradBasedCorrMaskBottom (8) | 0.587997 |
CircGradBasedCorrMaskBottom (9) | 0.602255 |
CircGradBasedCorrMaskBottom | 0.566095 |
CircGradBasedCorrMaskFeather | +50 |
CircGradBasedCorrMaskFlipped | true |
CircGradBasedCorrMaskLeft (1) | 0.147093 |
CircGradBasedCorrMaskLeft (10) | 0.562632 |
CircGradBasedCorrMaskLeft (11) | 0.555572 |
CircGradBasedCorrMaskLeft (12) | 0.458128 |
CircGradBasedCorrMaskLeft (13) | 0.456724 |
CircGradBasedCorrMaskLeft (14) | 0.672539 |
CircGradBasedCorrMaskLeft (15) | 0.279891 |
CircGradBasedCorrMaskLeft (16) | 0.268050 |
CircGradBasedCorrMaskLeft (17) | 0.143703 |
CircGradBasedCorrMaskLeft (2) | 0.436920 |
CircGradBasedCorrMaskLeft (3) | 0.407801 |
CircGradBasedCorrMaskLeft (4) | 0.511136 |
CircGradBasedCorrMaskLeft (5) | 0.513706 |
CircGradBasedCorrMaskLeft (6) | 0.516851 |
CircGradBasedCorrMaskLeft (7) | 0.514909 |
CircGradBasedCorrMaskLeft (8) | 0.554223 |
CircGradBasedCorrMaskLeft (9) | 0.556021 |
CircGradBasedCorrMaskLeft | 0.407144 |
CircGradBasedCorrMaskMidpoint | +50 |
CircGradBasedCorrMaskRight (1) | 0.863301 |
CircGradBasedCorrMaskRight (10) | 0.572116 |
CircGradBasedCorrMaskRight (11) | 0.563609 |
CircGradBasedCorrMaskRight (12) | 0.455716 |
CircGradBasedCorrMaskRight (13) | 0.475005 |
CircGradBasedCorrMaskRight (14) | 0.727111 |
CircGradBasedCorrMaskRight (15) | 0.464310 |
CircGradBasedCorrMaskRight (16) | 0.245000 |
CircGradBasedCorrMaskRight (17) | 0.502982 |
CircGradBasedCorrMaskRight (2) | 0.495090 |
CircGradBasedCorrMaskRight (3) | 0.563723 |
CircGradBasedCorrMaskRight (4) | 0.535143 |
CircGradBasedCorrMaskRight (5) | 0.527563 |
CircGradBasedCorrMaskRight (6) | 0.531955 |
CircGradBasedCorrMaskRight (7) | 0.523126 |
CircGradBasedCorrMaskRight (8) | 0.564797 |
CircGradBasedCorrMaskRight (9) | 0.568684 |
CircGradBasedCorrMaskRight | 0.517187 |
CircGradBasedCorrMaskRoundness | 0 |
CircGradBasedCorrMaskTop (1) | 0.452237 |
CircGradBasedCorrMaskTop (10) | 0.588192 |
CircGradBasedCorrMaskTop (11) | 0.590667 |
CircGradBasedCorrMaskTop (12) | 0.458956 |
CircGradBasedCorrMaskTop (13) | 0.464784 |
CircGradBasedCorrMaskTop (14) | 0.265846 |
CircGradBasedCorrMaskTop (15) | 0.506190 |
CircGradBasedCorrMaskTop (16) | 0.558475 |
CircGradBasedCorrMaskTop (17) | 0.530975 |
CircGradBasedCorrMaskTop (2) | 0.441998 |
CircGradBasedCorrMaskTop (3) | 0.444408 |
CircGradBasedCorrMaskTop (4) | 0.593362 |
CircGradBasedCorrMaskTop (5) | 0.594176 |
CircGradBasedCorrMaskTop (6) | 0.609982 |
CircGradBasedCorrMaskTop (7) | 0.609954 |
CircGradBasedCorrMaskTop (8) | 0.563524 |
CircGradBasedCorrMaskTop (9) | 0.579107 |
CircGradBasedCorrMaskTop | 0.421217 |
CircGradBasedCorrMaskValue | 1.000000 |
CircGradBasedCorrMaskVersion | +2 |
CircGradBasedCorrMaskWhat | Mask/CircularGradient |
CircGradBasedCorrMoire | 0.000000 |
CircGradBasedCorrSaturation | 0.000000 |
CircGradBasedCorrShadows2012 | 0.000000 |
CircGradBasedCorrSharpness (17) | 0.000000 |
CircGradBasedCorrSharpness (2) | 0.643466 |
CircGradBasedCorrSharpness | 0.349747 |
CircGradBasedCorrTemperature (10) | 0.266098 |
CircGradBasedCorrTemperature (11) | 0.282355 |
CircGradBasedCorrTemperature (12) | 0.357244 |
CircGradBasedCorrTemperature (5) | 0.282749 |
CircGradBasedCorrTemperature (6) | 0.287090 |
CircGradBasedCorrTemperature (7) | 0.205414 |
CircGradBasedCorrTemperature (8) | 0.276673 |
CircGradBasedCorrTemperature (9) | 0.311158 |
CircGradBasedCorrTemperature | 0.000000 |
CircGradBasedCorrTint | 0.000000 |
CircGradBasedCorrWhat | Correction |
CircleOfConfusion | 0.030 mm |
Clarity2012 | +100 |
ColorComponents | 3 |
ColorNoiseReduction | 0 |
ColorTransform | YCbCr |
Contrast | Normal |
Contrast2012 | 0 |
ConvertToGrayscale | False |
CreateDate (1) | 2016:10:06 08:11:39.22 |
CreateDate | 2016:10:06 08:11:39 |
CreatorTool | Adobe Photoshop Lightroom 5.6 (Macintosh) |
CropAngle | 0 |
CropBottom | 0.850391 |
CropConstrainToWarp | 0 |
CropLeft | 0 |
CropRight | 0.853611 |
CropTop | 0.16749 |
DateCreated (1) | 2016:10:06 |
DateCreated | 2016:10:06 08:11:38.54 |
DateTimeOriginal | 2016:10:06 08:11:38 |
DefringeGreenAmount | 0 |
DefringeGreenHueHi | 60 |
DefringeGreenHueLo | 40 |
DefringePurpleAmount | 0 |
DefringePurpleHueHi | 70 |
DefringePurpleHueLo | 30 |
DigitalZoomRatio | 1 |
DOF | 5.25 m (47.61 - 52.86 m) |
Exposure2012 | -0.70 |
ExposureCompensation | +1/3 |
ExposureMode | Manual |
ExposureProgram | Manual |
ExposureTime | 1/400 |
Flash | Off, Did not fire |
FNumber | 5.6 |
FocalLength | 400.0 mm |
FocalLength35efl | 400.0 mm (35 mm equivalent: 400.0 mm) |
FocalLengthIn35mmFormat | 400 mm |
Format | image/jpeg |
FOV | 5.2 deg |
GainControl | Low gain up |
GrainAmount | 0 |
GreenHue | 0 |
GreenSaturation | 0 |
HasCrop | True |
HasExtendedXMP | 785FAD0F0CAFD6D294223A214FE8E54C |
HasSettings | True |
Highlights2012 | 0 |
HueAdjustmentAqua | 0 |
HueAdjustmentBlue | 0 |
HueAdjustmentGreen | 0 |
HueAdjustmentMagenta | 0 |
HueAdjustmentOrange | 0 |
HueAdjustmentPurple | 0 |
HueAdjustmentRed | 0 |
HueAdjustmentYellow | 0 |
HyperfocalDistance | 950.91 m |
ImageHeight | 1015 |
ImageNumber | 37913 |
ImageSize | 1919x1015 |
ImageWidth | 1919 |
IncrementalTemperature | 0 |
IncrementalTint | 0 |
ISO | 800 |
Keywords | 2016, dobbeleksponering, havet, havørn, kunst, måke, oktober |
Label | Red |
Lens | 80.0-400.0 mm f/4.5-5.6 |
LensID (1) | 183 |
LensID | AF-S Nikkor 80-400mm f/4.5-5.6G ED VR |
LensInfo | 80-400mm f/4.5-5.6 |
LensManualDistortionAmount | 0 |
LensModel | 80.0-400.0 mm f/4.5-5.6 |
LensProfileEnable | 0 |
LensProfileSetup | LensDefaults |
LightSource | Unknown |
LightValue | 10.6 |
LuminanceAdjustmentAqua | 0 |
LuminanceAdjustmentBlue | 0 |
LuminanceAdjustmentGreen | 0 |
LuminanceAdjustmentMagenta | 0 |
LuminanceAdjustmentOrange | 0 |
LuminanceAdjustmentPurple | 0 |
LuminanceAdjustmentRed | 0 |
LuminanceAdjustmentYellow | 0 |
LuminanceNoiseReductionContrast | 0 |
LuminanceNoiseReductionDetail | 50 |
LuminanceSmoothing | 27 |
Make | NIKON CORPORATION |
MaxApertureValue | 5.7 |
Megapixels | 1.9 |
MeteringMode | Multi-segment |
Model | NIKON D810 |
ModifyDate (1) | 2016:10:07 21:05:02+02:00 |
ModifyDate | 2016:10:07 21:05:02 |
PaintCorrectionActive | true |
PaintCorrectionAmount | 1.000000 |
PaintCorrectionBrightness | 0.000000 |
PaintCorrectionClarity2012 | 0.000000 |
PaintCorrectionContrast2012 | 0.000000 |
PaintCorrectionDefringe | 0.000000 |
PaintCorrectionExposure2012 (7) | 1.000000 |
PaintCorrectionExposure2012 (8) | -1.000000 |
PaintCorrectionExposure2012 | 0.000000 |
PaintCorrectionHighlights2012 | 0.000000 |
PaintCorrectionHue | 0.000000 |
PaintCorrectionLuminanceNoise | 0.000000 |
PaintCorrectionMaskCenterWeight | 0.000000 |
PaintCorrectionMaskFlow (2) | 0.060000 |
PaintCorrectionMaskFlow | 0.030000 |
PaintCorrectionMaskRadius (1) | 0.002781 |
PaintCorrectionMaskRadius (11) | 0.003752 |
PaintCorrectionMaskRadius (14) | 0.001876 |
PaintCorrectionMaskRadius (2) | 0.001010 |
PaintCorrectionMaskRadius (3) | 0.003031 |
PaintCorrectionMaskRadius (8) | 0.005462 |
PaintCorrectionMaskRadius | 0.005981 |
PaintCorrectionMaskValue | 1.000000 |
PaintCorrectionMaskWhat | Mask/Paint |
PaintCorrectionMoire | 0.000000 |
PaintCorrectionSaturation | 0.000000 |
PaintCorrectionShadows2012 | 0.000000 |
PaintCorrectionSharpness | 0.000000 |
PaintCorrectionTemperature | 0.000000 |
PaintCorrectionTint | 0.000000 |
PaintCorrectionWhat | Correction |
ParametricDarks | 0 |
ParametricHighlights | 0 |
ParametricHighlightSplit | 75 |
ParametricLights | 0 |
ParametricMidtoneSplit | 50 |
ParametricShadows | 0 |
ParametricShadowSplit | 25 |
PerspectiveAspect | 0 |
PerspectiveHorizontal | 0 |
PerspectiveRotate | 0.0 |
PerspectiveScale | 100 |
PerspectiveUpright | 0 |
PerspectiveVertical | 0 |
PhotographicSensitivity | 800 |
PostCropVignetteAmount | 0 |
ProcessVersion | 6.7 |
ProfileDescription | Adobe RGB (1998) |
RedHue | 0 |
RedSaturation | 0 |
Saturation (1) | +12 |
Saturation | Normal |
SaturationAdjustmentAqua | 0 |
SaturationAdjustmentBlue | 0 |
SaturationAdjustmentGreen | 0 |
SaturationAdjustmentMagenta | 0 |
SaturationAdjustmentOrange | 0 |
SaturationAdjustmentPurple | 0 |
SaturationAdjustmentRed | 0 |
SaturationAdjustmentYellow | 0 |
ScaleFactor35efl | 1.0 |
SceneCaptureType | Standard |
SceneType | Directly photographed |
SensingMethod | One-chip color area |
SerialNumber | 6035266 |
Shadows2012 | 0 |
ShadowTint | 0 |
SharpenDetail | 25 |
SharpenEdgeMasking | 0 |
SharpenRadius | +0.7 |
Sharpness (1) | 99 |
Sharpness | Normal |
ShutterSpeed | 1/400 |
ShutterSpeedValue | 1/400 |
Software | Adobe Photoshop Lightroom 5.6 (Macintosh) |
SplitToningBalance | 0 |
SplitToningHighlightHue | 0 |
SplitToningHighlightSaturation | 0 |
SplitToningShadowHue | 0 |
SplitToningShadowSaturation | 0 |
Subject | 2016, dobbeleksponering, havet, havørn, kunst, måke, oktober |
SubjectDistanceRange | Unknown |
ToneCurve | 0, 0, 255, 255 |
ToneCurveBlue | 0, 0, 255, 255 |
ToneCurveGreen | 0, 0, 255, 255 |
ToneCurveName | Linear |
ToneCurveName2012 | Linear |
ToneCurvePV2012 | 0, 0, 255, 255 |
ToneCurvePV2012Blue | 0, 0, 255, 255 |
ToneCurvePV2012Green | 0, 0, 255, 255 |
ToneCurvePV2012Red | 0, 0, 255, 255 |
ToneCurveRed | 0, 0, 255, 255 |
Version | 8.6 |
Vibrance | 0 |
VignetteAmount | 0 |
WhiteBalance (1) | Custom |
WhiteBalance | Manual |
Whites2012 | 0 |