Felt | Verdi |
AlreadyApplied | True |
Aperture | 5.6 |
ApertureValue | 5.6 |
AutoLateralCA | 0 |
AutoWhiteVersion | 134348800 |
BitsPerSample (1) | 8 8 8 |
BitsPerSample | 8 |
Blacks2012 | 0 |
BlueHue | 0 |
BlueSaturation | 0 |
BrightnessValue | 2.49375 |
CameraProfile | Embedded |
CircleOfConfusion | 0.030 mm |
Clarity2012 | -47 |
ColorComponents | 3 |
ColorMode | RGB |
ColorNoiseReduction | 0 |
ColorSpace | sRGB |
ColorTransform | YCbCr |
Contrast | Normal |
Contrast2012 | +21 |
ConvertToGrayscale | True |
CreateDate (1) | 2018:03:01 15:44:25+01:00 |
CreateDate | 2018:03:01 15:44:25 |
CreatorTool | Adobe Photoshop Lightroom 5.7 (Macintosh) |
CropAngle | 0 |
CropBottom | 1 |
CropConstrainToWarp | 0 |
CropLeft | 0.171997 |
CropRight | 0.802804 |
CropTop | 0.005856 |
CustomRendered | Normal |
DateCreated (1) | 2018:03:01 |
DateCreated | 2018:03:01 15:44:25 |
DateTimeOriginal | 2018:03:01 15:44:25 |
DigitalZoomRatio | 1 |
ExifImageHeight | 3977 |
ExifImageWidth | 3785 |
Exposure2012 | -0.35 |
ExposureCompensation | 0 |
ExposureMode | Manual |
ExposureProgram | Manual |
ExposureTime | 1/30 |
Flash | Off, Did not fire |
FNumber | 5.6 |
FocalLength | 70.0 mm |
FocalLength35efl | 70.0 mm (35 mm equivalent: 70.0 mm) |
FocalLengthIn35mmFormat | 70 mm |
Format | image/jpeg |
FOV | 28.8 deg |
GrainAmount | 0 |
GrayMixerAqua | -17 |
GrayMixerBlue | +10 |
GrayMixerGreen | -27 |
GrayMixerMagenta | +3 |
GrayMixerOrange | -19 |
GrayMixerPurple | +15 |
GrayMixerRed | -10 |
GrayMixerYellow | -23 |
GreenHue | 0 |
GreenSaturation | 0 |
HasCrop | True |
HasSettings | True |
Highlights2012 | +3 |
HyperfocalDistance | 29.12 m |
ICCProfileName | sRGB IEC61966-2.1 |
ImageHeight | 3977 |
ImageSize | 3785x3977 |
ImageWidth | 3785 |
IncrementalTemperature | 0 |
IncrementalTint | 0 |
ISO | 640 |
Keywords | mars 2018.sony II.med jentene på egon. |
Lens | FE 28-70mm F3.5-5.6 OSS |
LensInfo | 28-70mm f/3.5-5.6 |
LensManualDistortionAmount | 0 |
LensModel | FE 28-70mm F3.5-5.6 OSS |
LensProfileEnable | 0 |
LensProfileSetup | LensDefaults |
LightSource | Unknown |
LightValue | 7.2 |
LuminanceSmoothing | 0 |
Make | SONY |
MaxApertureValue | 5.6 |
Megapixels | 15.1 |
MeteringMode | Spot |
Model | ILCE-7M2 |
ModifyDate (1) | 2018:03:01 21:26:52+01:00 |
ModifyDate | 2018:03:01 21:26:52 |
Orientation | Horizontal (normal) |
ParametricDarks | 0 |
ParametricHighlights | 0 |
ParametricHighlightSplit | 75 |
ParametricLights | 0 |
ParametricMidtoneSplit | 50 |
ParametricShadows | 0 |
ParametricShadowSplit | 25 |
PerspectiveAspect | 0 |
PerspectiveHorizontal | 0 |
PerspectiveRotate | 0.0 |
PerspectiveScale | 100 |
PerspectiveUpright | 0 |
PerspectiveVertical | 0 |
PhotometricInterpretation | RGB |
PostCropVignetteAmount | 0 |
ProcessVersion | 6.7 |
ProfileDescription | sRGB IEC61966-2.1 |
RecommendedExposureIndex | 640 |
RedHue | 0 |
RedSaturation | 0 |
SamplesPerPixel | 3 |
Saturation | Normal |
ScaleFactor35efl | 1.0 |
SceneCaptureType | Standard |
SceneType | Directly photographed |
SensitivityType | Recommended Exposure Index |
Shadows2012 | +29 |
ShadowTint | 0 |
SharpenDetail | 25 |
SharpenEdgeMasking | 0 |
SharpenRadius | +1.0 |
Sharpness (1) | 0 |
Sharpness | Normal |
ShutterSpeed | 1/30 |
ShutterSpeedValue | 1/30 |
Software | Adobe Photoshop Elements 14.0 (Macintosh) |
SplitToningBalance | 0 |
SplitToningHighlightHue | 173 |
SplitToningHighlightSaturation | 0 |
SplitToningShadowHue | 0 |
SplitToningShadowSaturation | 0 |
Subject | mars 2018.sony II.med jentene på egon. |
ToneCurve | 0, 0, 255, 255 |
ToneCurveBlue | 0, 0, 255, 255 |
ToneCurveGreen | 0, 0, 255, 255 |
ToneCurveName | Linear |
ToneCurveName2012 | Linear |
ToneCurvePV2012 | 0, 0, 255, 255 |
ToneCurvePV2012Blue | 0, 0, 255, 255 |
ToneCurvePV2012Green | 0, 0, 255, 255 |
ToneCurvePV2012Red | 0, 0, 255, 255 |
ToneCurveRed | 0, 0, 255, 255 |
URL_List | |
Version | 8.7 |
VignetteAmount | 0 |
WhiteBalance (1) | As Shot |
WhiteBalance | Auto |
Whites2012 | +53 |