Felt | Verdi |
AlreadyApplied | True |
Aperture | 5.6 |
ApertureValue | 5.6 |
Artist | Jarle Lunde |
BitsPerSample | 8 |
BlueHue | 0 |
BlueSaturation | 0 |
Brightness | 0 |
By-line | Jarle Lunde |
CameraProfile | Embedded |
Caption-Abstract | Fjelltjæreblom under Kista på Haukelifjell. |
CFAPattern | [Green,Red][Blue,Green] |
ChromaticAberrationB | 0 |
ChromaticAberrationR | 0 |
CircleOfConfusion | 0.020 mm |
Clarity | 0 |
ColorComponents | 3 |
ColorNoiseReduction | 0 |
ColorSpace | sRGB |
Contrast (2) | 0 |
Contrast | Normal |
ConvertToGrayscale | False |
Copyright | Jarle Lunde |
CopyrightNotice | Jarle Lunde |
Country | Norway |
Country-PrimaryLocationName | Norway |
CreateDate (1) | 2008:07:25 22:22:15.24+02:00 |
CreateDate | 2008:07:25 22:22:15 |
Creator | Jarle Lunde |
CreatorTool | Adobe Photoshop Lightroom |
CreatorWorkURL | www.jarlelunde.no |
CustomRendered | Normal |
DateTimeDigitized | 2008:07:25 22:22:15.24+02:00 |
DateTimeOriginal (1) | 2008:07:25 22:22:15.24+02:00 |
DateTimeOriginal | 2008:07:25 22:22:15 |
Defringe | 0 |
Description | Fjelltjæreblom under Kista på Haukelifjell. |
DigitalZoomRatio | 1 |
ExifImageHeight | 685 |
ExifImageWidth | 1024 |
Exposure | -0.48 |
ExposureCompensation | +2 |
ExposureMode | Auto |
ExposureProgram | Aperture-priority AE |
ExposureTime | 1/10 |
FillLight | 4 |
Flash | No Flash |
FlashFired | False |
FlashFunction | False |
FlashMode | Unknown |
FlashRedEyeMode | False |
FlashReturn | No return detection |
FNumber | 5.6 |
FocalLength | 20.0 mm |
FocalLength35efl | 20.0 mm (35 mm equivalent: 30.0 mm) |
FocalLengthIn35mmFormat | 30 mm |
Format | application/vnd.adobe.photoshop |
FOV | 61.9 deg |
GainControl | Low gain up |
GreenHue | 0 |
GreenSaturation | 0 |
HasCrop | False |
HasSettings | True |
HighlightRecovery | 6 |
HueAdjustmentAqua | 0 |
HueAdjustmentBlue | 0 |
HueAdjustmentGreen | 0 |
HueAdjustmentMagenta | 0 |
HueAdjustmentOrange | 0 |
HueAdjustmentPurple | 0 |
HueAdjustmentRed | 0 |
HueAdjustmentYellow | 0 |
HyperfocalDistance | 3.57 m |
ImageDescription | Fjelltjaereblom under Kista pa Haukelifjell. |
ImageHeight | 685 |
ImageNumber | 9386 |
ImageSize | 1024x685 |
ImageWidth | 1024 |
IncrementalTemperature | 0 |
IncrementalTint | 0 |
ISO | 400 |
Keywords | Flora, Landskap, Vinje, fjell, juli, planter |
Label | (8)SuldalFoto |
Lens | 10.0-20.0 mm f/4.0-5.6 |
LensInfo | 10-20mm f/4-5.6 |
LightSource | Unknown |
LightValue | 6.3 |
Location | Suldal kommune |
LuminanceAdjustmentAqua | 0 |
LuminanceAdjustmentBlue | 0 |
LuminanceAdjustmentGreen | 0 |
LuminanceAdjustmentMagenta | 0 |
LuminanceAdjustmentOrange | 0 |
LuminanceAdjustmentPurple | 0 |
LuminanceAdjustmentRed | 0 |
LuminanceAdjustmentYellow | 0 |
LuminanceSmoothing | 0 |
Make | NIKON CORPORATION |
MaxApertureValue | 5.7 |
Megapixels | 0.701 |
MeteringMode | Multi-segment |
Model | NIKON D200 |
ModifyDate (1) | 2008:08:17 13:55:27+02:00 |
ModifyDate | 2008:08:17 13:55:27 |
ObjectName | Fjelltjæreblom |
ParametricDarks | -49 |
ParametricHighlights | 0 |
ParametricHighlightSplit | 75 |
ParametricLights | +35 |
ParametricMidtoneSplit | 50 |
ParametricShadows | 0 |
ParametricShadowSplit | 25 |
PostCropVignetteAmount | 0 |
ProfileDescription | sRGB IEC61966-2.1 |
Province-State | Rogaland |
Rating | 4 |
RedHue | 0 |
RedSaturation | 0 |
Rights | Jarle Lunde |
Saturation (2) | 0 |
Saturation | Normal |
SaturationAdjustmentAqua | 0 |
SaturationAdjustmentBlue | 0 |
SaturationAdjustmentGreen | 0 |
SaturationAdjustmentMagenta | 0 |
SaturationAdjustmentOrange | 0 |
SaturationAdjustmentPurple | 0 |
SaturationAdjustmentRed | 0 |
SaturationAdjustmentYellow | 0 |
ScaleFactor35efl | 1.5 |
SceneCaptureType | Standard |
SceneType | Directly photographed |
SensingMethod | One-chip color area |
Shadows | 0 |
ShadowTint | 0 |
SharpenDetail | 25 |
SharpenEdgeMasking | 0 |
SharpenRadius | +1.0 |
Sharpness (2) | 46 |
Sharpness | Normal |
ShutterSpeed | 1/10 |
ShutterSpeedValue | 1/10 |
Software | Adobe Photoshop Elements 5.0 (20060914.r.77) Windows |
SplitToningBalance | 0 |
SplitToningHighlightHue | 0 |
SplitToningHighlightSaturation | 0 |
SplitToningShadowHue | 0 |
SplitToningShadowSaturation | 0 |
State | Rogaland |
Sub-location | Suldal kommune |
Subject | Flora, Landskap, Vinje, fjell, juli, planter |
SubjectDistanceRange | Unknown |
Title | Fjelltjæreblom |
ToneCurve | 0, 0, 255, 255 |
ToneCurveName | Linear |
Version | 4.5 |
Vibrance | 0 |
VignetteAmount | 0 |
WhiteBalance (2) | As Shot |
WhiteBalance | Auto |