Felt | Verdi |
AlreadyApplied | True |
Aperture | 8.0 |
ApertureValue | 8.0 |
BitsPerSample | 8 |
BlueHue | 0 |
BlueSaturation | 0 |
Brightness | +51 |
CameraProfile | Adobe Standard |
ChromaticAberrationB | 0 |
ChromaticAberrationR | 0 |
Clarity | +100 |
ColorComponents | 1 |
ColorNoiseReduction | 100 |
ColorTemperature | 4800 |
Contrast | +40 |
ConvertToGrayscale | True |
CreateDate (1) | 2010:01:29 22:48:21+01:00 |
CreateDate | 2010:01:29 22:48:21 |
CreatorTool | Adobe Photoshop Lightroom |
CropAngle | 0 |
CropBottom | 1 |
CropHeight | 2526 |
CropLeft | 0 |
CropRight | 1 |
CropTop | 0.076696 |
CropUnit | pixels |
CropWidth | 3648 |
DateTimeDigitized | 2010:01:29 22:48:21+01:00 |
DateTimeOriginal (1) | 2010:01:29 22:48:21+01:00 |
DateTimeOriginal | 2010:01:29 22:48:21 |
Defringe | 0 |
ExifImageHeight | 3648 |
ExifImageWidth | 2526 |
Exposure | 0.00 |
ExposureCompensation | 0 |
ExposureProgram | Manual |
ExposureTime | 25 |
FillLight | 0 |
Flash | Off, Did not fire |
FlashFired | False |
FlashFunction | False |
FlashMode | Off |
FlashRedEyeMode | False |
FlashReturn | No return detection |
FNumber | 8.0 |
FocalLength | 5.1 mm |
FocalLength35efl | 5.1 mm |
GrayMixerAqua | -18 |
GrayMixerBlue | +10 |
GrayMixerGreen | -27 |
GrayMixerMagenta | +4 |
GrayMixerOrange | -19 |
GrayMixerPurple | +16 |
GrayMixerRed | -10 |
GrayMixerYellow | -23 |
GreenHue | 0 |
GreenSaturation | 0 |
HasCrop | True |
HasSettings | True |
HighlightRecovery | 21 |
ImageHeight | 3648 |
ImageSize | 2526x3648 |
ImageWidth | 2526 |
ISO | 160 |
LightValue | 0.7 |
LuminanceSmoothing | 81 |
Make | LEICA |
MaxApertureValue | 2.0 |
Megapixels | 9.2 |
MeteringMode | Multi-segment |
Model | D-LUX 4 |
ModifyDate (1) | 2010:02:01 13:50:41+01:00 |
ModifyDate | 2010:02:01 13:50:41 |
ObjectName | By Cyclicologi |
ParametricDarks | +1 |
ParametricHighlights | +1 |
ParametricHighlightSplit | 75 |
ParametricLights | -1 |
ParametricMidtoneSplit | 50 |
ParametricShadows | +1 |
ParametricShadowSplit | 25 |
PostCropVignetteAmount | 0 |
ProfileDescription | sRGB IEC61966-2.1 |
RedHue | 0 |
RedSaturation | 0 |
Shadows | 0 |
ShadowTint | 0 |
SharpenDetail | 24 |
SharpenEdgeMasking | 26 |
SharpenRadius | +1.0 |
Sharpness | 104 |
ShutterSpeed | 25 |
ShutterSpeedValue | 25 |
SplitToningBalance | 0 |
SplitToningHighlightHue | 0 |
SplitToningHighlightSaturation | 0 |
SplitToningShadowHue | 0 |
SplitToningShadowSaturation | 0 |
Tint | -11 |
Title | By Cyclicologi |
ToneCurve | 0, 0, 32, 22, 64, 56, 128, 128, 192, 196, 255, 255 |
ToneCurveName | Medium Contrast |
Version | 5.5 |
VignetteAmount | 0 |
WhiteBalance | As Shot |