Felt | Verdi |
AlreadyApplied | True |
Aperture | 4.5 |
ApertureValue | 4.5 |
ApproximateFocusDistance | 4294967295 |
BitsPerSample | 8 |
BlueHue | +100 |
BlueSaturation | +19 |
Brightness | +25 |
CameraProfile | Adobe Standard |
ChromaticAberrationB | 0 |
ChromaticAberrationR | 0 |
CircleOfConfusion | 0.027 mm |
Clarity | +47 |
ColorComponents | 3 |
ColorNoiseReduction | 15 |
ColorNoiseReductionDetail | 50 |
ColorTemperature | 5691 |
Contrast | +45 |
ConvertToGrayscale | False |
CreateDate (1) | 2011:07:31 14:27:34.00 |
CreateDate | 2011:07:31 14:27:34 |
CreatorTool | Adobe Photoshop Lightroom 3.4.1 |
CropAngle | 0 |
CropBottom | 0.749873 |
CropConstrainToWarp | 0 |
CropHeight | 2442 |
CropLeft | 0 |
CropRight | 0.748073 |
CropTop | 0.0018 |
CropUnit | pixels |
CropWidth | 3663 |
CustomRendered | Normal |
DateCreated (1) | 2011:07:31 |
DateCreated | 2011:07:31 14:27:34.00 |
DateTimeOriginal | 2011:07:31 14:27:34 |
Defringe | 2 |
DOF | inf (52.45 m - inf) |
Exposure | +0.10 |
ExposureCompensation | 0 |
ExposureMode | Auto |
ExposureProgram | Aperture-priority AE |
ExposureTime | 1/800 |
FillLight | 57 |
Firmware | 1.0.6 |
Flash | Off, Did not fire |
FlashCompensation | 0 |
FNumber | 4.5 |
FocalLength | 80.0 mm |
FocalLength35efl | 80.0 mm (35 mm equivalent: 88.6 mm) |
FOV | 23.0 deg |
GrainAmount | 0 |
GreenHue | +69 |
GreenSaturation | -100 |
HasCrop | True |
HasSettings | True |
HighlightRecovery | 75 |
HueAdjustmentAqua | -21 |
HueAdjustmentBlue | -33 |
HueAdjustmentGreen | -100 |
HueAdjustmentMagenta | 0 |
HueAdjustmentOrange | -5 |
HueAdjustmentPurple | -52 |
HueAdjustmentRed | 0 |
HueAdjustmentYellow | 0 |
HyperfocalDistance | 52.45 m |
ImageHeight | 2442 |
ImageNumber | 0 |
ImageSize | 3663x2442 |
ImageWidth | 3663 |
ISO | 100 |
Lens | EF70-200mm f/2.8L IS USM |
LensID (1) | 224 |
LensID | Canon EF 70-200mm f/2.8L IS USM |
LensInfo | 70-200mm f/? |
LensManualDistortionAmount | 0 |
LensModel | EF70-200mm f/2.8L IS USM |
LensProfileChromaticAberrationScale | 100 |
LensProfileDistortionScale | 100 |
LensProfileEnable | 1 |
LensProfileFilename | Canon EOS 5D Mark II (Canon EF 70-200mm f2.8 L IS USM) - RAW.lcp |
LensProfileName | Adobe (Canon EF 70-200mm f2.8 L IS USM) |
LensProfileSetup | LensDefaults |
LensProfileVignettingScale | 100 |
LightValue | 14.0 |
LuminanceAdjustmentAqua | +100 |
LuminanceAdjustmentBlue | -100 |
LuminanceAdjustmentGreen | +100 |
LuminanceAdjustmentMagenta | 0 |
LuminanceAdjustmentOrange | +19 |
LuminanceAdjustmentPurple | +48 |
LuminanceAdjustmentRed | 0 |
LuminanceAdjustmentYellow | +100 |
LuminanceSmoothing | 0 |
Make | Canon |
MaxApertureValue | 2.8 |
Megapixels | 8.9 |
MeteringMode | Multi-segment |
Model | Canon EOS-1D Mark IV |
ModifyDate (1) | 2011:09:07 20:21:01+02:00 |
ModifyDate | 2011:09:07 20:21:01 |
PaintCorrectionActive | true |
PaintCorrectionAmount | 1.000000 |
PaintCorrectionBrightness | 0.000000 |
PaintCorrectionClarity | -0.682353 |
PaintCorrectionContrast | 0.000000 |
PaintCorrectionExposure | 0.503125 |
PaintCorrectionHue | 240.000000 |
PaintCorrectionMaskCenterWeight | 0.210625 |
PaintCorrectionMaskFlow (1) | 0.265060 |
PaintCorrectionMaskFlow (2) | 0.246154 |
PaintCorrectionMaskFlow | 0.701967 |
PaintCorrectionMaskRadius (1) | 0.037901 |
PaintCorrectionMaskRadius (2) | 0.037907 |
PaintCorrectionMaskRadius | 0.037863 |
PaintCorrectionMaskValue | 0.500673 |
PaintCorrectionMaskWhat | Mask/Paint |
PaintCorrectionSaturation (1) | 0.571967 |
PaintCorrectionSaturation | 0.000000 |
PaintCorrectionSharpness | 0.250000 |
PaintCorrectionWhat | Correction |
ParametricDarks | +62 |
ParametricHighlights | -2 |
ParametricHighlightSplit | 75 |
ParametricLights | +100 |
ParametricMidtoneSplit | 50 |
ParametricShadows | -4 |
ParametricShadowSplit | 25 |
PerspectiveHorizontal | 0 |
PerspectiveRotate | 0.0 |
PerspectiveScale | 100 |
PerspectiveVertical | 0 |
PostCropVignetteAmount | 0 |
ProcessVersion | 5.7 |
ProfileDescription | Adobe RGB (1998) |
RedHue | -38 |
RedSaturation | +100 |
Saturation | -86 |
SaturationAdjustmentAqua | +98 |
SaturationAdjustmentBlue | +67 |
SaturationAdjustmentGreen | +100 |
SaturationAdjustmentMagenta | 0 |
SaturationAdjustmentOrange | 0 |
SaturationAdjustmentPurple | -93 |
SaturationAdjustmentRed | 0 |
SaturationAdjustmentYellow | +38 |
ScaleFactor35efl | 1.1 |
SceneCaptureType | Standard |
SerialNumber | 430300582 |
Shadows | 10 |
ShadowTint | -100 |
SharpenDetail | 25 |
SharpenEdgeMasking | 0 |
SharpenRadius | +1.0 |
Sharpness | 46 |
ShutterSpeed | 1/800 |
ShutterSpeedValue | 1/800 |
Software | Adobe Photoshop Lightroom 3.4.1 |
SplitToningBalance | 0 |
SplitToningHighlightHue | 223 |
SplitToningHighlightSaturation | 13 |
SplitToningShadowHue | 60 |
SplitToningShadowSaturation | 24 |
SubjectDistance | 4294967295 m |
Tint | +118 |
ToneCurve | 0, 0, 255, 255 |
ToneCurveName | Linear |
Version | 6.4.1 |
Vibrance | -38 |
VignetteAmount | -75 |
VignetteMidpoint | 0 |
WhiteBalance (1) | Custom |
WhiteBalance | Auto |