Felt | Verdi |
AlreadyApplied | True |
Aperture | 2.8 |
ApertureValue | 2.8 |
ApproximateFocusDistance | 1.44 |
AutoLateralCA | 0 |
BitsPerSample | 8 |
Blacks2012 | -48 |
BlueHue | 0 |
BlueSaturation | 0 |
CameraProfile | Adobe Standard |
CircleOfConfusion | 0.019 mm |
Clarity2012 | +28 |
ColorComponents | 3 |
ColorMode | RGB |
ColorNoiseReduction | 25 |
ColorNoiseReductionDetail | 50 |
ColorSpace | Uncalibrated |
ColorTemperature | 4750 |
Contrast2012 | +47 |
ConvertToGrayscale | False |
CreateDate | 2013:09:29 13:52:28 |
CustomRendered | Normal |
DateCreated (1) | 2013:09:29 |
DateCreated | 2013:09:29 13:52:28.003 |
DateTimeOriginal | 2013:09:29 13:52:28 |
DefringeGreenAmount | 0 |
DefringeGreenHueHi | 60 |
DefringeGreenHueLo | 40 |
DefringePurpleAmount | 0 |
DefringePurpleHueHi | 70 |
DefringePurpleHueLo | 30 |
DOF | 0.11 m (1.39 - 1.50 m) |
ExifImageHeight | 3888 |
ExifImageWidth | 2592 |
Exposure2012 | 0.00 |
ExposureCompensation | 0 |
ExposureMode | Manual |
ExposureProgram | Manual |
ExposureTime | 1/125 |
Firmware | 1.0.7 |
Flash | Off, Did not fire |
FlashCompensation | 0 |
FNumber | 2.8 |
FocalLength | 43.0 mm |
FocalLength35efl | 43.0 mm (35 mm equivalent: 69.6 mm) |
Format | image/jpeg |
FOV | 29.0 deg |
GrainAmount | 0 |
GreenHue | 0 |
GreenSaturation | 0 |
HasCrop | False |
HasSettings | True |
Highlights2012 | -50 |
HueAdjustmentAqua | 0 |
HueAdjustmentBlue | 0 |
HueAdjustmentGreen | +51 |
HueAdjustmentMagenta | 0 |
HueAdjustmentOrange | 0 |
HueAdjustmentPurple | 0 |
HueAdjustmentRed | 0 |
HueAdjustmentYellow | +33 |
HyperfocalDistance | 35.58 m |
ICCProfileName | Adobe RGB (1998) |
ImageHeight | 3888 |
ImageNumber | 0 |
ImageSize | 2592x3888 |
ImageWidth | 2592 |
ISO | 100 |
Lens | 17-50mm |
LensID (1) | 137 |
LensID | Sigma 17-50mm f/2.8 OS HSM or Tamron SP 17-50mm f/2.8 XR Di II VC (B005) |
LensInfo | 17-50mm f/? |
LensManualDistortionAmount | 0 |
LensModel | 17-50mm |
LensProfileEnable | 0 |
LensProfileSetup | LensDefaults |
LightValue | 9.9 |
LuminanceAdjustmentAqua | 0 |
LuminanceAdjustmentBlue | -23 |
LuminanceAdjustmentGreen | -46 |
LuminanceAdjustmentMagenta | 0 |
LuminanceAdjustmentOrange | 0 |
LuminanceAdjustmentPurple | 0 |
LuminanceAdjustmentRed | -30 |
LuminanceAdjustmentYellow | 0 |
LuminanceSmoothing | 0 |
Make | Canon |
MaxApertureValue | 2.8 |
Megapixels | 10.1 |
MeteringMode | Multi-segment |
Model | Canon EOS 1000D |
ModifyDate (1) | 2013:10:14 16:51:33+02:00 |
ModifyDate | 2013:10:14 16:51:33 |
Orientation | Horizontal (normal) |
ParametricDarks | 0 |
ParametricHighlights | 0 |
ParametricHighlightSplit | 75 |
ParametricLights | 0 |
ParametricMidtoneSplit | 50 |
ParametricShadows | 0 |
ParametricShadowSplit | 25 |
PerspectiveAspect | 0 |
PerspectiveHorizontal | 0 |
PerspectiveRotate | 0.0 |
PerspectiveScale | 100 |
PerspectiveUpright | 0 |
PerspectiveVertical | 0 |
PostCropVignetteAmount | 0 |
ProcessVersion | 6.7 |
ProfileDescription | Adobe RGB (1998) |
Rating | 0 |
RawFileName | _MG_7637.CR2 |
RedHue | 0 |
RedSaturation | 0 |
Saturation | 0 |
SaturationAdjustmentAqua | 0 |
SaturationAdjustmentBlue | +88 |
SaturationAdjustmentGreen | +73 |
SaturationAdjustmentMagenta | +58 |
SaturationAdjustmentOrange | +33 |
SaturationAdjustmentPurple | +33 |
SaturationAdjustmentRed | +34 |
SaturationAdjustmentYellow | +32 |
ScaleFactor35efl | 1.6 |
SceneCaptureType | Standard |
SerialNumber | 2850644587 |
Shadows2012 | -28 |
ShadowTint | 0 |
SharpenDetail | 25 |
SharpenEdgeMasking | 0 |
SharpenRadius | +1.0 |
Sharpness | 25 |
ShutterSpeed | 1/125 |
ShutterSpeedValue | 1/125 |
Software | Adobe Photoshop CC (Macintosh) |
SplitToningBalance | 0 |
SplitToningHighlightHue | 0 |
SplitToningHighlightSaturation | 0 |
SplitToningShadowHue | 0 |
SplitToningShadowSaturation | 0 |
Tint | -2 |
ToneCurveName2012 | Linear |
ToneCurvePV2012 | 0, 0, 255, 255 |
ToneCurvePV2012Blue | 0, 0, 255, 255 |
ToneCurvePV2012Green | 0, 0, 255, 255 |
ToneCurvePV2012Red | 0, 0, 255, 255 |
URL_List | |
Version | 8.0 |
Vibrance | 0 |
VignetteAmount | 0 |
WhiteBalance (1) | As Shot |
WhiteBalance | Auto |
Whites2012 | +14 |